Workbook

Sheet info
B2: Skriv projektsinformationen i de grå cellerna:
B3: Projekt: | C3: WOMEN FOR FUTUR
B4: Partner: | C4: ASOV Burundi
B5: Datum för budgetinlämning (datumformat ÅÅÅÅ-MM-DD): | C5: 45877
B8: Projektets aktivitetsperiod Startdatum (datumformat ÅÅÅÅ-MM-DD): | C8: 45931
B9: Projektets aktivitetsperiod Slutdatum (datumformat ÅÅÅÅ-MM-DD): | C9: 47118
B12: Lägg till eventuella bidragsgivare till insatsen utöver Sida:
B13: Sida
B14: [Annan givare 1]
B15: [Annan givare 2]
B16: [Annan givare 3]
B17: [Annan givare 4]
B18: [Annan givare 5]

Sheet budget
B1: Skriv budgetinformation i de grå cellerna:
B2: Intäkter:
C4: Finansiär namn | F4: Belopp | L4: Total
F5: 2025 | G5: 2026 | H5: 2027 | I5: 2028 | J5: 2029 | K5: 2030
C6: Sida | F6: 175000 | G6: =1000000-170000 -> 830000 | H6: =1000000-5000 -> 995000 | I6: 1000000 | L6: =SUM(F6:K6) -> 3000000
C7: Egna medel | F7: 25000 | G7: 125000 | H7: 150000 | I7: 150000 | L7: =SUM(F7:K7) -> 450000
L8: =SUM(F8:K8) -> 0
L9: =SUM(F9:K9) -> 0
L10: =SUM(F10:K10) -> 0
F11: Totala Intäkter | L11: =SUM(L6:L10) -> 3450000
B13: Kostnader administrerade av svensk organisation:
C15: Direkta personalkostnader
C16: Roll/position | D16: Månadslön | E16: Skatt, Sociala avgifter och Försäkring | F16: Antal heltidsmånader | L16: Belopp | R16: Total
F17: 2025 | G17: 2026 | H17: 2027 | I17: 2028 | J17: 2029 | K17: 2030 | L17: 2025 | M17: 2026 | N17: 2027 | O17: 2028 | P17: 2029 | Q17: 2030
C18: Projektledare | D18: 30000 | E18: 9426 | G18: 3 | H18: 3.25 | I18: 3.3 | L18: =($D18+$E18)*F18 -> 0 | M18: =($D18+$E18)*G18 -> 118278 | N18: =($D18+$E18)*H18 -> 128134.5 | O18: =($D18+$E18)*I18 -> 130105.8 | P18: =($D18+$E18)*J18 -> 0 | Q18: =($D18+$E18)*K18 -> 0 | R18: =SUM(L18:Q18) -> 376518.3
L19: =($D19+$E19)*F19 -> 0 | M19: =($D19+$E19)*G19 -> 0 | N19: =($D19+$E19)*H19 -> 0 | O19: =($D19+$E19)*I19 -> 0 | P19: =($D19+$E19)*J19 -> 0 | Q19: =($D19+$E19)*K19 -> 0 | R19: =SUM(L19:Q19) -> 0
L20: =($D20+$E20)*F20 -> 0 | M20: =($D20+$E20)*G20 -> 0 | N20: =($D20+$E20)*H20 -> 0 | O20: =($D20+$E20)*I20 -> 0 | P20: =($D20+$E20)*J20 -> 0 | Q20: =($D20+$E20)*K20 -> 0 | R20: =SUM(L20:Q20) -> 0
L21: =($D21+$E21)*F21 -> 0 | M21: =($D21+$E21)*G21 -> 0 | N21: =($D21+$E21)*H21 -> 0 | O21: =($D21+$E21)*I21 -> 0 | P21: =($D21+$E21)*J21 -> 0 | Q21: =($D21+$E21)*K21 -> 0 | R21: =SUM(L21:Q21) -> 0
L22: =($D22+$E22)*F22 -> 0 | M22: =($D22+$E22)*G22 -> 0 | N22: =($D22+$E22)*H22 -> 0 | O22: =($D22+$E22)*I22 -> 0 | P22: =($D22+$E22)*J22 -> 0 | Q22: =($D22+$E22)*K22 -> 0 | R22: =SUM(L22:Q22) -> 0
F23: Total direkta personalkostnader | L23: =SUM(L18:L22) -> 0 | M23: =SUM(M18:M22) -> 118278 | N23: =SUM(N18:N22) -> 128134.5 | O23: =SUM(O18:O22) -> 130105.8 | P23: =SUM(P18:P22) -> 0 | Q23: =SUM(Q18:Q22) -> 0 | R23: =SUM(L23:Q23) -> 376518.3
C24: Direkta kostnader (ej personal)
C25: Kostnadsslag | F25: Belopp | L25: total
C26: Konsulttjänster och externa tjänster | F26: 2025 | G26: 2026 | H26: 2027 | I26: 2028 | J26: 2029 | K26: 2030
C27: Konsult kostnaderna | G27: 45000 | H27: 45000 | I27: 45000 | L27: =SUM(F27:K27) -> 135000
L28: =SUM(F28:K28) -> 0
L29: =SUM(F29:K29) -> 0
C30: Konsulttjänster och externa tjänster | F30: =SUM(F27:F29) -> 0 | G30: =SUM(G27:G29) -> 45000 | H30: =SUM(H27:H29) -> 45000 | I30: =SUM(I27:I29) -> 45000 | J30: =SUM(J27:J29) -> 0 | K30: =SUM(K27:K29) -> 0 | L30: =SUM(L27:L29) -> 135000
C32: Resor och logi | F32: 2025 | G32: 2026 | H32: 2027 | I32: 2028 | J32: 2029 | K32: 2030
C33: Resor och logi | G33: 42500 | H33: 50310 | I33: 55672 | L33: =SUM(F33:K33) -> 148482
L34: =SUM(F34:K34) -> 0
L35: =SUM(F35:K35) -> 0
C36: Resor och logi | F36: =SUM(F33:F35) -> 0 | G36: =SUM(G33:G35) -> 42500 | H36: =SUM(H33:H35) -> 50310 | I36: =SUM(I33:I35) -> 55672 | J36: =SUM(J33:J35) -> 0 | K36: =SUM(K33:K35) -> 0 | L36: =SUM(L33:L35) -> 148482
C38: Konferens, möten och utbildning | F38: 2025 | G38: 2026 | H38: 2027 | I38: 2028 | J38: 2029 | K38: 2030
L39: =SUM(F39:K39) -> 0
L40: =SUM(F40:K40) -> 0
L41: =SUM(F41:K41) -> 0
C42: Konferens, möten och utbildning | F42: =SUM(F39:F41) -> 0 | G42: =SUM(G39:G41) -> 0 | H42: =SUM(H39:H41) -> 0 | I42: =SUM(I39:I41) -> 0 | J42: =SUM(J39:J41) -> 0 | K42: =SUM(K39:K41) -> 0 | L42: =SUM(L39:L41) -> 0
C44: Material och utrustningar | F44: 2025 | G44: 2026 | H44: 2027 | I44: 2028 | J44: 2029 | K44: 2030
L45: =SUM(F45:K45) -> 0
L46: =SUM(F46:K46) -> 0
...

Sheet key ratios
B4: Skriv budgetinformation i de grå cellerna:
B6: nyckeltal 1 | D6: Belopp | E6: % of total budget | H6: Total budget
B7: förklaring | C7: värde | D7: =SUM(D8) -> 2360000 | E7: =D8/H7 -> 0.68405791 | H7: =budget!L91 -> 3450000.3
B8: Utbetalningar till lokala civilsamhällesorganisationer i ODA-länder genom ett formellt avtal. | C8: Utbetalningar till organisationer i ODA-länder | D8: 2360000 | E8: =D8/H7 -> 0.68405791
B9: nyckeltal 2 | D9: Belopp | E9: % of total budget
B10: förklaring | C10: värde | D10: =SUM(D11:D14) -> 283482 | E10: =D10/H7 -> 0.082168689
B11: Kostnader som inte betalas till lokala partners i ODA-länder men som ändå direkt stärker deras kapacitet. | C11: Kostnader för att stärka organisationers kapacitet i Sverige | D11: 283482 | E11: =D11/$H$7 -> 0.082168689
C12: Kostnader för att stärka organisationers kapacitet i regionala och landkontor | D12: 0 | E12: =D12/$H$7 -> 0
C13: Kostnader för att stärka organisationers kapacitet för partners utanför ODA-länder | D13: 0 | E13: =D13/$H$7 -> 0
B14: Direkt stöd till informella aktörer. | C14: Informella aktörer | D14: 0 | E14: =D14/$H$7 -> 0
B15: nyckeltal 3 | D15: Belopp | E15: % of total budget
B16: förklaring | C16: värde | D16: =SUM(D17:D19) -> 806518 | E16: =D16/H7 -> 0.23377331
B17: Verksamhet och indirekta kostnader för den svenska organisationen samt dess land- och regionkontor och partners utanför ODA-länder. Exklusive kostnader som redan tagits upp i nyckeltal 2. | C17: Verksamhet och indirekta kostnader i Sverige | D17: 806518 | E17: =D17/$H$7 -> 0.23377331
C18: Verksamhet och indirekta kostnader i regionala och landkontor | E18: =D18/$H$7 -> 0
C19: Verksamhet och indirekta kostnader för partners utanför ODA-länder | E19: =D19/$H$7 -> 0
B20: Kostnader i Sverige och ODA-länder | D20: Belopp | E20: % of total budget
B21: förklaring | C21: värde | D21: =SUM(D22:D24) -> 3450000 | E21: =D21/H7 -> 0.99999991
B22: Totala kostnader i Sverige samt kostnader för partners inom och utanför ODA-länder. Värdet i nyckeltal 2 ska fördelas baserat på var kostnaderna har uppstått. Detta nyckeltal = nyckeltal 1, 2 och 3 | C22: Totala kostnader i Sverige | D22: =D11+D17 -> 1090000 | E22: =D22/$H$7 -> 0.315942
C23: Totala kostnader i ODA-länder (inklusive regionala och landkontor) | D23: =D12+D14+D18+D8 -> 2360000 | E23: =D23/$H$7 -> 0.68405791
C24: Totala kostnader för partners utanför ODA-länder | D24: =D19+D13 -> 0 | E24: =D24/$H$7 -> 0

Sheet overview 
B3: Kostnadsslag | E3: Belopp | K3: Total
E4: 2025 | F4: 2026 | G4: 2027 | H4: 2028 | I4: 2029 | J4: 2030
B5: Intäkter
B6: Sida | E6: =budget!F6 -> 175000 | F6: =budget!G6 -> 830000 | G6: =budget!H6 -> 995000 | H6: =budget!I6 -> 1000000 | I6: =budget!J6 -> 0 | J6: =budget!K6 -> 0 | K6: =SUM(E6:J6) -> 3000000
B7: Egna medel | E7: =budget!F7 -> 25000 | F7: =budget!G7 -> 125000 | G7: =budget!H7 -> 150000 | H7: =budget!I7 -> 150000 | I7: =budget!J7 -> 0 | J7: =budget!K7 -> 0 | K7: =SUM(E7:J7) -> 450000
B8: övriga bidragsgivare | E8: =budget!F8+budget!F9+budget!F10 -> 0 | F8: =budget!G8+budget!G9+budget!G10 -> 0 | G8: =budget!H8+budget!H9+budget!H10 -> 0 | H8: =budget!I8+budget!I9+budget!I10 -> 0 | I8: =budget!J8+budget!J9+budget!J10 -> 0 | J8: =budget!K8+budget!K9+budget!K10 -> 0 | K8: =SUM(E8:J8) -> 0
B9: Totala intäkter | K9: =SUM(K6:K8) -> 3450000
B10: Kostnader:
B11: =budget!C15 -> Direkta personalkostnader | E11: =budget!L23 -> 0 | F11: =budget!M23 -> 118278 | G11: =budget!N23 -> 128134.5 | H11: =budget!O23 -> 130105.8 | I11: 0 | J11: =budget!Q23 -> 0 | K11: =SUM(E11:J11) -> 376518.3
B12: =budget!C24 -> Direkta kostnader (ej personal) | E12: =budget!F55 -> 0 | F12: =budget!G55 -> 87500 | G12: =budget!H55 -> 95310 | H12: =budget!I55 -> 100672 | I12: 0 | J12: =budget!K55 -> 0 | K12: =SUM(E12:J12) -> 283482
B13: =budget!C56 -> Lokala partners | E13: =budget!F76 -> 200000 | F13: =budget!G76 -> 640000 | G13: =budget!H76 -> 770000 | H13: =budget!I76 -> 750000 | I13: =budget!J76 -> 0 | J13: =budget!K76 -> 0 | K13: =SUM(E13:J13) -> 2360000
B14: =budget!C77 -> Revision och utvärdering | E14: =budget!F82 -> 0 | F14: =budget!G82 -> 35000 | G14: =budget!H82 -> 42000 | H14: =budget!I82 -> 77000 | I14: =budget!J82 -> 0 | J14: =budget!K82 -> 0 | K14: =SUM(E14:J14) -> 154000
B15: =budget!C83 -> Indirekta kostnader (overhead) | E15: =budget!F89 -> 0 | F15: =budget!G89 -> 94000 | G15: =budget!H89 -> 90000 | H15: =budget!I89 -> 92000 | I15: =budget!J89 -> 0 | J15: =budget!K89 -> 0 | K15: =SUM(E15:J15) -> 276000
B16: Totala kostnader | K16: =SUM(K11:K15) -> 3450000.3
B18: Nyckeltal | E18: Belopp | G18: % of total budget
B19: Nyckeltal 1 | E19: ='key ratios'!D7 -> 2360000 | G19: ='key ratios'!E7 -> 0.68405791
B20: Nyckeltal 2 | E20: ='key ratios'!D10 -> 283482 | G20: ='key ratios'!E10 -> 0.082168689
B21: Nyckeltal 3 | E21: ='key ratios'!D16 -> 806518 | G21: ='key ratios'!E16 -> 0.23377331
B22: Total | E22: ='key ratios'!D21 -> 3450000 | G22: ='key ratios'!E21 -> 0.99999991

Sheet Blad1

Sheet template
B6: Key ratio 1 | D6: Amount | E6: % of total budget | H6: Total budget
B7: Explanation | C7: Value | D7: =SUM(D8) -> 0 | E7: =D8/H7 -> 0 | H7: 1
B8: Disbursements to local civil society organisations in ODA countries, through a formal agreement. | C8: Disbursements to organisations in ODA countries | E8: =D8/H7 -> 0
B9: Key ratio 2 | D9: Amount | E9: % of total budget
B10: Explanation | C10: Value | D10: =SUM(D11:D12) -> 0 | E10: =D11/H7 -> 0
B11: Costs that are not paid to local partners in ODA countries but still directly strengthen their capacity. | C11: Cost for strengthen organisations´ capacity | E11: =D11/H7 -> 0
B12: Direct support to informal actors. | C12: Informal actors | E12: =D12/H7 -> 0
B13: Key ratio 3 | D13: Amount | E13: % of total budget
B14: Explanation | C14: Value | D14: =SUM(D15:D18) -> 0 | E14: =D14/H7 -> 0
B15: Only applicable for organisations based outside ODA countries. Operational and administrative costs for the organisation as well as its head quarter-, local country-, regional offices, and partners outside ODA countries. | C15: Operational and administrative costs in home country | E15: =D15/$H$7 -> 0
C16: Operational and administrative costs for regional offices | E16: =D16/$H$7 -> 0
C17: Operational and administrative costs for local country offices | E17: =D17/$H$7 -> 0
C18: Operational and administrative costs for partners outside ODA countries | E18: =D18/$H$7 -> 0
B19: Total costs | D19: =SUM(D8+D11+D15+D16+D17+D18) -> 0 | E19: =SUM(E8+E11+E15+E16+E17+E18) -> 0
B20: Costs in home country and ODA countries | D20: Amount | E20: % of total budget
B21: Explanation | C21: Value | D21: =SUM(D22:D24) -> 0 | E21: =D21/H7 -> 0
B22: Only applicable for organisations based outside ODA countries. Total costs in the organisation´s home country and costs for partners in and outside ODA countries. Value in Key ratio 2 shall be distributed based on where costs have incurred. This Key ratio = Key ratio 1, 2 and 3. | C22: Total costs in home country | D22: =D15 -> 0 | E22: =D22/$H$7 -> 0
C23: Total costs in ODA countries (including local country- and regional offices) | D23: =D8+D11+D16+D17+D12 -> 0 | E23: =D23/$H$7 -> 0
C24: Total costs for partners outside ODA countries | D24: =D18 -> 0 | E24: =D24/$H$7 -> 0
